BEGIN:VCALENDAR
VERSION:2.0
PRODID:-//Lutheran Education - ECPv6.15.20//NONSGML v1.0//EN
CALSCALE:GREGORIAN
METHOD:PUBLISH
X-WR-CALNAME:Lutheran Education
X-ORIGINAL-URL:https://lesnw.edu.au
X-WR-CALDESC:Events for Lutheran Education
REFRESH-INTERVAL;VALUE=DURATION:PT1H
X-Robots-Tag:noindex
X-PUBLISHED-TTL:PT1H
BEGIN:VTIMEZONE
TZID:Australia/Adelaide
BEGIN:STANDARD
TZOFFSETFROM:+1030
TZOFFSETTO:+0930
TZNAME:ACST
DTSTART:20250405T163000
END:STANDARD
BEGIN:DAYLIGHT
TZOFFSETFROM:+0930
TZOFFSETTO:+1030
TZNAME:ACDT
DTSTART:20251004T163000
END:DAYLIGHT
BEGIN:STANDARD
TZOFFSETFROM:+1030
TZOFFSETTO:+0930
TZNAME:ACST
DTSTART:20260404T163000
END:STANDARD
BEGIN:DAYLIGHT
TZOFFSETFROM:+0930
TZOFFSETTO:+1030
TZNAME:ACDT
DTSTART:20261003T163000
END:DAYLIGHT
BEGIN:STANDARD
TZOFFSETFROM:+1030
TZOFFSETTO:+0930
TZNAME:ACST
DTSTART:20270403T163000
END:STANDARD
BEGIN:DAYLIGHT
TZOFFSETFROM:+0930
TZOFFSETTO:+1030
TZNAME:ACDT
DTSTART:20271002T163000
END:DAYLIGHT
END:VTIMEZONE
BEGIN:VEVENT
DTSTART;VALUE=DATE:20260501
DTEND;VALUE=DATE:20260502
DTSTAMP:20260424T234128
CREATED:20260204T070116Z
LAST-MODIFIED:20260204T070116Z
UID:10003271-1777593600-1777679999@lesnw.edu.au
SUMMARY:R&R Hub Group
DESCRIPTION:
URL:https://lesnw.edu.au/event/2026-rr-hub-group-2/
LOCATION:SA
CATEGORIES:Principal and Director Support
END:VEVENT
BEGIN:VEVENT
DTSTART;TZID=Australia/Adelaide:20260501T083000
DTEND;TZID=Australia/Adelaide:20260501T153000
DTSTAMP:20260424T234128
CREATED:20250921T072507Z
LAST-MODIFIED:20260424T060456Z
UID:10003208-1777624200-1777649400@lesnw.edu.au
SUMMARY:Leading 'Excellence in Learning'
DESCRIPTION:Leading Vocational Practices: Workshop 2\nLocation: LESNW Regional Office \nWorkshop Flyer (PDF)\nSeries Flyer (PDF) \nGrounded in the Growing Deep Framework\, this workshop will explore the Vocational Practice of ‘Excellence in Learning’ and the related capabilities essential to leadership in your context. This session will be practical\, contextually relevant and tailored to support stakeholder engagement across diverse roles and settings. \nRegistrations close on Friday 24 April at 4.00pm. If you experience any issues or do not receive a confirmation email after registering\, please reach out to Rebecca Fielke for assistance.
URL:https://lesnw.edu.au/event/2026-leading-excellence-in-learning/
LOCATION:LESNW Meeting Room 1\, LESNW Meeting Room 1\, 137 Archer Street\, North Adelaide\, 5006
CATEGORIES:Educational Leadership Support,Leadership Teams
ATTACH;FMTTYPE=image/png:https://lesnw.edu.au/wp-content/uploads/2025/09/NEW-WORKSHOP.png
ORGANIZER;CN="Lutheran Education SA%2C NT & WA":MAILTO:office@lesnw.edu.au
END:VEVENT
BEGIN:VEVENT
DTSTART;VALUE=DATE:20260508
DTEND;VALUE=DATE:20260509
DTSTAMP:20260424T234128
CREATED:20251010T055157Z
LAST-MODIFIED:20251010T055157Z
UID:10003238-1778198400-1778284799@lesnw.edu.au
SUMMARY:Year 1 Leaders Network
DESCRIPTION:Location: TBC
URL:https://lesnw.edu.au/event/2026-year-1-leaders-network-3/
LOCATION:Venue TBC\, Venue TBC
CATEGORIES:Principal and Director Support
ORGANIZER;CN="Lutheran Education SA%2C NT & WA":MAILTO:office@lesnw.edu.au
END:VEVENT
BEGIN:VEVENT
DTSTART;TZID=Australia/Adelaide:20260508T090000
DTEND;TZID=Australia/Adelaide:20260508T153000
DTSTAMP:20260424T234128
CREATED:20250921T095459Z
LAST-MODIFIED:20260331T044235Z
UID:10002846-1778230800-1778254200@lesnw.edu.au
SUMMARY:Equip 1: Term 2
DESCRIPTION:Location: LESNW Regional Office \n2026 Equip Dates (PDF) \nDay 1 | Friday 8 May\nDay 2 | Monday 18 May\nDay 3 | Tuesday 19 May \nPlease note: By registering for this workshop\, you are registering for the three above days of Equip 1.\nRegistrations for this event close on Wednesday 29 April at 4.00pm.
URL:https://lesnw.edu.au/event/2026-equip-1-term-2/
LOCATION:LESNW Meeting Room 1\, LESNW Meeting Room 1\, 137 Archer Street\, North Adelaide\, 5006
CATEGORIES:Equip,Theological, Pastoral and Cultural Support
ORGANIZER;CN="Lutheran Education SA%2C NT & WA":MAILTO:office@lesnw.edu.au
END:VEVENT
BEGIN:VEVENT
DTSTART;TZID=Australia/Adelaide:20260511T083000
DTEND;TZID=Australia/Adelaide:20260511T153000
DTSTAMP:20260424T234128
CREATED:20250915T214727Z
LAST-MODIFIED:20260325T222126Z
UID:10003193-1778488200-1778513400@lesnw.edu.au
SUMMARY:Leadership Lab 1.0
DESCRIPTION:Location:  LESNW Regional Office\nWho Should Attend:  Principals\, directors\, heads of school\, middle/senior leaders\, board chairs\, and anyone in a leadership role. Teams of up to 4 are welcome to register. \nWorkshop Flyer (PDF) \nDates:\nDay 1 | Monday 11 May\nDay 2 | Friday 12 June\nDay 3 | Friday 7 August\nDay 4 | Friday 11 September\nPlease note: Participants must attend all sessions. \nAn immersive program of four compulsory workshops focused on developing leadership capabilities through compassionate systems tools and practices. Participants will engage in collaborative learning and apply practical strategies to lead effectively in complex\, changing contexts. \nRegistrations for Lab 1.0 close on Monday 4 May at 4.00pm. If you experience any issues or do not receive a confirmation email after registering\, please reach out to Rebecca Fielke for assistance.
URL:https://lesnw.edu.au/event/2026-leadership-lab-1/
LOCATION:LESNW Meeting Room 1\, LESNW Meeting Room 1\, 137 Archer Street\, North Adelaide\, 5006
CATEGORIES:Educational Leadership Support,Leadership Teams
ATTACH;FMTTYPE=image/png:https://lesnw.edu.au/wp-content/uploads/2026/03/LIMITED-TICKETS-REMAINING.png
ORGANIZER;CN="Lutheran Education SA%2C NT & WA":MAILTO:office@lesnw.edu.au
END:VEVENT
BEGIN:VEVENT
DTSTART;TZID=Australia/Adelaide:20260513T093000
DTEND;TZID=Australia/Adelaide:20260513T120000
DTSTAMP:20260424T234128
CREATED:20250921T083752Z
LAST-MODIFIED:20260304T031129Z
UID:10002845-1778664600-1778673600@lesnw.edu.au
SUMMARY:Connect Facilitator Training
DESCRIPTION:Location: Online\nAudience: New and Existing Connect Facilitators \nA workshop to train new and existing school based Connect facilitators with the latest resources and approaches to running Connect within their own learning communities. \nRegistrations for this event close on Wednesday 6 May at 4:00pm. If you experience any issues or do not receive a confirmation email after registering\, please reach out to Rebecca Fielke for assistance.
URL:https://lesnw.edu.au/event/2026-connect-facilitator-training-2/
LOCATION:Microsoft Teams Meeting\, Microsoft Teams Meeting
CATEGORIES:Online,Theological, Pastoral and Cultural Support
ORGANIZER;CN="Lutheran Education SA%2C NT & WA":MAILTO:office@lesnw.edu.au
END:VEVENT
BEGIN:VEVENT
DTSTART;TZID=Australia/Adelaide:20260518T090000
DTEND;TZID=Australia/Adelaide:20260518T153000
DTSTAMP:20260424T234128
CREATED:20250921T095815Z
LAST-MODIFIED:20260107T034401Z
UID:10002847-1779094800-1779118200@lesnw.edu.au
SUMMARY:Equip 1: Term 2 (Day 2)
DESCRIPTION:Location: LESNW Regional Office \nDay 1 | Friday 8 May\nDay 2 | Monday 18 May\nDay 3 | Tuesday 19 May \nRegister for the above days here.
URL:https://lesnw.edu.au/event/2026-equip-1-term-2-day-2/
LOCATION:LESNW Meeting Room 1\, LESNW Meeting Room 1\, 137 Archer Street\, North Adelaide\, 5006
CATEGORIES:Theological, Pastoral and Cultural Support
ORGANIZER;CN="Lutheran Education SA%2C NT & WA":MAILTO:office@lesnw.edu.au
END:VEVENT
BEGIN:VEVENT
DTSTART;TZID=Australia/Adelaide:20260519T090000
DTEND;TZID=Australia/Adelaide:20260519T153000
DTSTAMP:20260424T234128
CREATED:20250921T095921Z
LAST-MODIFIED:20260107T034408Z
UID:10002848-1779181200-1779204600@lesnw.edu.au
SUMMARY:Equip 1: Term 2 (Day 3)
DESCRIPTION:Location: LESNW Regional Office \nDay 1 | Friday 8 May\nDay 2 | Monday 18 May\nDay 3 | Tuesday 19 May \nRegister for the above days here.
URL:https://lesnw.edu.au/event/2026-equip-1-term-2-day-3/
LOCATION:LESNW Meeting Room 1\, LESNW Meeting Room 1\, 137 Archer Street\, North Adelaide\, 5006
CATEGORIES:Theological, Pastoral and Cultural Support
ORGANIZER;CN="Lutheran Education SA%2C NT & WA":MAILTO:office@lesnw.edu.au
END:VEVENT
BEGIN:VEVENT
DTSTART;TZID=Australia/Adelaide:20260522T083000
DTEND;TZID=Australia/Adelaide:20260522T133000
DTSTAMP:20260424T234128
CREATED:20250921T081559Z
LAST-MODIFIED:20260423T232213Z
UID:10003217-1779438600-1779456600@lesnw.edu.au
SUMMARY:Secondary School Chaplains
DESCRIPTION:Location: Immanuel Primary School\, Novar Gardens\nAudience: LESNW Secondary School Chaplains \nChaplains and pastors of both secondary and primary schools are invited to join us for: \n\nNew ideas. Whether it’s chapels\, lunchtime groups or pastoral care\, discover what works from other ministry teams\, so you’re not reinventing the wheel.\nDiscussion topics. Learn how to respond to the complexities of ministry\, in collaboration with others\, who know more than anyone else what your challenges are like.\nPeer support. After deep conversations and prayer\, you can return with confidence to try new approaches\, trusting that you’re not alone and others have your back.\n\nPlease arrive by 8:30am to allow time for signing in and being seated in the chapel by 8:45am. \nRegistrations for this event close on Wednesday 13 May at 4:00pm. If you do not receive a confirmation email after registering\, please reach out to Rebecca Fielke for assistance.
URL:https://lesnw.edu.au/event/2026-secondary-school-chaplains-term-2/
LOCATION:Immanuel Primary School\, Immanuel Primary School\, Saratoga Drive\, Novar Gardens\, South Australia\, 5040
CATEGORIES:Theological, Pastoral and Cultural Support
ORGANIZER;CN="Lutheran Education SA%2C NT & WA":MAILTO:office@lesnw.edu.au
END:VEVENT
BEGIN:VEVENT
DTSTART;TZID=Australia/Adelaide:20260525T090000
DTEND;TZID=Australia/Adelaide:20260525T150000
DTSTAMP:20260424T234128
CREATED:20250921T080601Z
LAST-MODIFIED:20260304T030819Z
UID:10003213-1779699600-1779721200@lesnw.edu.au
SUMMARY:Early Years\, Primary and Secondary Christian Studies Leaders Day
DESCRIPTION:Location: LESNW Regional Office\nAudience: Christian Studies and Teaching and Learning Leaders\nFacilitators: Renee Wehner (LESNW)\, Jodi Blackwell (LEQ)\, and David Spike (LEVNT) \nWorkshop flyer (PDF) \nThis full-day professional learning opportunity is designed for Christian Studies and Teaching and Learning Leaders who are preparing for the implementation of the new Christian Studies Curriculum. \nRegistrations for this event close on Monday 18 May at 4:00pm.  If you experience any issues or do not receive a confirmation email after registering\, please reach out to Rebecca Fielke for assistance.
URL:https://lesnw.edu.au/event/2026-christian-studies-leaders/
LOCATION:LESNW Meeting Room 1\, LESNW Meeting Room 1\, 137 Archer Street\, North Adelaide\, 5006
CATEGORIES:Learning and Teaching Support
ORGANIZER;CN="Lutheran Education SA%2C NT & WA":MAILTO:office@lesnw.edu.au
END:VEVENT
BEGIN:VEVENT
DTSTART;TZID=Australia/Adelaide:20260525T190000
DTEND;TZID=Australia/Adelaide:20260525T200000
DTSTAMP:20260424T234128
CREATED:20250915T221057Z
LAST-MODIFIED:20251201T233038Z
UID:10002825-1779735600-1779739200@lesnw.edu.au
SUMMARY:Chairs of Boards/Councils Gathering
DESCRIPTION:Location: Online (MS Teams)\nAudience: Chairs of Boards/Councils \nChairs of Boards/Councils Gatherings Flyer (PDF) \nLinks will be provided to chairs via calendar invitations.
URL:https://lesnw.edu.au/event/2026-chairs-of-boards-councils-gathering-4/
LOCATION:Microsoft Teams Meeting\, Microsoft Teams Meeting
CATEGORIES:Governing Body Support
ORGANIZER;CN="Lutheran Education SA%2C NT & WA":MAILTO:office@lesnw.edu.au
END:VEVENT
BEGIN:VEVENT
DTSTART;TZID=Australia/Adelaide:20260526T090000
DTEND;TZID=Australia/Adelaide:20260526T150000
DTSTAMP:20260424T234128
CREATED:20250921T083021Z
LAST-MODIFIED:20260107T042522Z
UID:10002841-1779786000-1779807600@lesnw.edu.au
SUMMARY:Connect Session 4
DESCRIPTION:Location: LESNW Regional Office\nAudience: Teaching staff new to Lutheran Education. \nConnect explores Lutheran Education\, its beliefs and spiritual life. It helps new staff inquire into ‘why we do what we do’. The course supports new staff to explore and reflect on their role and contribution to the mission of their learning community. \nRegistrations for this event close on Tuesday 19 May at 4.00pm. For any questions regarding Connect\, please contact Stuart Traeger. \n 
URL:https://lesnw.edu.au/event/2026-connect-session-4-term-2/
LOCATION:LESNW Meeting Room 1\, LESNW Meeting Room 1\, 137 Archer Street\, North Adelaide\, 5006
CATEGORIES:Connect,Theological, Pastoral and Cultural Support
ORGANIZER;CN="Lutheran Education SA%2C NT & WA":MAILTO:office@lesnw.edu.au
END:VEVENT
BEGIN:VEVENT
DTSTART;VALUE=DATE:20260527
DTEND;VALUE=DATE:20260528
DTSTAMP:20260424T234128
CREATED:20251015T041908Z
LAST-MODIFIED:20251029T072451Z
UID:10003237-1779840000-1779926399@lesnw.edu.au
SUMMARY:BARLE Hub Group
DESCRIPTION:
URL:https://lesnw.edu.au/event/2026-barle-hub-group-term-2/
LOCATION:Venue TBC\, Venue TBC
CATEGORIES:Principal and Director Support
ORGANIZER;CN="Lutheran Education SA%2C NT & WA":MAILTO:office@lesnw.edu.au
END:VEVENT
BEGIN:VEVENT
DTSTART;TZID=Australia/Adelaide:20260527T170000
DTEND;TZID=Australia/Adelaide:20260527T200000
DTSTAMP:20260424T234128
CREATED:20251010T034001Z
LAST-MODIFIED:20260417T010226Z
UID:10003235-1779901200-1779912000@lesnw.edu.au
SUMMARY:LESNW Annual General Meeting (AGM)
DESCRIPTION:Location: LESNW Regional Office
URL:https://lesnw.edu.au/event/2026-annual-general-meeting/
LOCATION:LESNW Meeting Room 1\, LESNW Meeting Room 1\, 137 Archer Street\, North Adelaide\, 5006
ORGANIZER;CN="Lutheran Education SA%2C NT & WA":MAILTO:office@lesnw.edu.au
END:VEVENT
BEGIN:VEVENT
DTSTART;VALUE=DATE:20260528
DTEND;VALUE=DATE:20260529
DTSTAMP:20260424T234128
CREATED:20251015T042121Z
LAST-MODIFIED:20251029T072507Z
UID:10003249-1779926400-1780012799@lesnw.edu.au
SUMMARY:LEAF Hub Group
DESCRIPTION:
URL:https://lesnw.edu.au/event/2026-leaf-hub-group-term-2/
LOCATION:Venue TBC\, Venue TBC
CATEGORIES:Principal and Director Support
END:VEVENT
BEGIN:VEVENT
DTSTART;TZID=Australia/Adelaide:20260528T090000
DTEND;TZID=Australia/Adelaide:20260528T153000
DTSTAMP:20260424T234128
CREATED:20250921T100721Z
LAST-MODIFIED:20260331T044255Z
UID:10003222-1779958800-1779982200@lesnw.edu.au
SUMMARY:Equip 2: Term 2
DESCRIPTION:Location: LESNW Regional Office \n2026 Equip Dates (PDF) \nDay 1 | Thursday 28 May\nDay 2 | Friday 29 May\nDay 3 | Tuesday 9 June \nPlease note: By registering for this workshop\, you are registering for the three above days of Equip 2.\nRegistrations for this event close on Tuesday 19 May at 4.00pm.
URL:https://lesnw.edu.au/event/2026-equip-2-term-2/
LOCATION:LESNW Meeting Room 1\, LESNW Meeting Room 1\, 137 Archer Street\, North Adelaide\, 5006
CATEGORIES:Equip,Theological, Pastoral and Cultural Support
ORGANIZER;CN="Lutheran Education SA%2C NT & WA":MAILTO:office@lesnw.edu.au
END:VEVENT
BEGIN:VEVENT
DTSTART;VALUE=DATE:20260529
DTEND;VALUE=DATE:20260530
DTSTAMP:20260424T234128
CREATED:20251015T042541Z
LAST-MODIFIED:20251203T035909Z
UID:10003252-1780012800-1780099199@lesnw.edu.au
SUMMARY:HILS Hub Group
DESCRIPTION:
URL:https://lesnw.edu.au/event/2026-hils-hub-group-term-2/
LOCATION:Venue TBC\, Venue TBC
CATEGORIES:Principal and Director Support
END:VEVENT
BEGIN:VEVENT
DTSTART;TZID=Australia/Adelaide:20260529T090000
DTEND;TZID=Australia/Adelaide:20260529T153000
DTSTAMP:20260424T234128
CREATED:20250921T100913Z
LAST-MODIFIED:20251010T042142Z
UID:10003223-1780045200-1780068600@lesnw.edu.au
SUMMARY:Equip 2: Term 2 (Day 2)
DESCRIPTION:Location: LESNW Regional Office \nDay 1 | Thursday 28 May\nDay 2 | Friday 29 May\nDay 3 | Tuesday 9 June \nRegister for the above days here.
URL:https://lesnw.edu.au/event/2026-equip-2-term-2-day-2/
LOCATION:LESNW Meeting Room 1\, LESNW Meeting Room 1\, 137 Archer Street\, North Adelaide\, 5006
CATEGORIES:Theological, Pastoral and Cultural Support
ORGANIZER;CN="Lutheran Education SA%2C NT & WA":MAILTO:office@lesnw.edu.au
END:VEVENT
BEGIN:VEVENT
DTSTART;VALUE=DATE:20260601
DTEND;VALUE=DATE:20260602
DTSTAMP:20260424T234128
CREATED:20251015T042847Z
LAST-MODIFIED:20251029T072522Z
UID:10003254-1780272000-1780358399@lesnw.edu.au
SUMMARY:Connected Schools Hub Group
DESCRIPTION:
URL:https://lesnw.edu.au/event/2026-connected-schools-hub-group-term-2/
LOCATION:Venue TBC\, Venue TBC
CATEGORIES:Principal and Director Support
END:VEVENT
BEGIN:VEVENT
DTSTART;VALUE=DATE:20260601
DTEND;VALUE=DATE:20260604
DTSTAMP:20260424T234128
CREATED:20251015T043807Z
LAST-MODIFIED:20260202T031546Z
UID:10003259-1780272000-1780531199@lesnw.edu.au
SUMMARY:Gold Coast Free to Flourish Immersion
DESCRIPTION:Dates TBC. \nLearn more and register here.
URL:https://lesnw.edu.au/event/2026-gold-coast-free-to-flourish-immersion/
LOCATION:SA
CATEGORIES:Learning and Teaching Support
END:VEVENT
BEGIN:VEVENT
DTSTART;TZID=Australia/Adelaide:20260601T083000
DTEND;TZID=Australia/Adelaide:20260601T153000
DTSTAMP:20260424T234128
CREATED:20250915T214317Z
LAST-MODIFIED:20251210T233329Z
UID:10003191-1780302600-1780327800@lesnw.edu.au
SUMMARY:Leadership Lab 2.0 Deepening Practice (Day 3)
DESCRIPTION:Location: LESNW Regional Office \nDay 1 | Monday 23 February\nDay 2 | Monday 30 March\nDay 3 | Monday 1 June\nDay 4 | Friday 14 August \nRegister for the above days here.
URL:https://lesnw.edu.au/event/2026-leadership-lab-2-day-3/
LOCATION:LESNW Meeting Room 1\, LESNW Meeting Room 1\, 137 Archer Street\, North Adelaide\, 5006
CATEGORIES:Educational Leadership Support
ORGANIZER;CN="Lutheran Education SA%2C NT & WA":MAILTO:office@lesnw.edu.au
END:VEVENT
BEGIN:VEVENT
DTSTART;TZID=Australia/Adelaide:20260604T083000
DTEND;TZID=Australia/Adelaide:20260604T123000
DTSTAMP:20260424T234128
CREATED:20250915T215914Z
LAST-MODIFIED:20251013T015659Z
UID:10003200-1780561800-1780576200@lesnw.edu.au
SUMMARY:FRAC Meeting
DESCRIPTION:Location: LESNW Regional Office
URL:https://lesnw.edu.au/event/2026-frac-meeting-4/
LOCATION:LESNW Meeting Room 1\, LESNW Meeting Room 1\, 137 Archer Street\, North Adelaide\, 5006
CATEGORIES:Financial Services Support,FRAC
ORGANIZER;CN="Lutheran Education SA%2C NT & WA":MAILTO:office@lesnw.edu.au
END:VEVENT
BEGIN:VEVENT
DTSTART;TZID=Australia/Adelaide:20260609T090000
DTEND;TZID=Australia/Adelaide:20260609T153000
DTSTAMP:20260424T234128
CREATED:20250921T101007Z
LAST-MODIFIED:20251010T042206Z
UID:10003224-1780995600-1781019000@lesnw.edu.au
SUMMARY:Equip 2: Term 2 (Day 3)
DESCRIPTION:Location: LESNW Regional Office \nDay 1 | Thursday 28 May\nDay 2 | Friday 29 May\nDay 3 | Tuesday 9 June \nRegister for the above days here.
URL:https://lesnw.edu.au/event/2026-equip-2-term-2-day-3/
LOCATION:LESNW Meeting Room 1\, LESNW Meeting Room 1\, 137 Archer Street\, North Adelaide\, 5006
CATEGORIES:Theological, Pastoral and Cultural Support
ORGANIZER;CN="Lutheran Education SA%2C NT & WA":MAILTO:office@lesnw.edu.au
END:VEVENT
BEGIN:VEVENT
DTSTART;TZID=Australia/Adelaide:20260609T090000
DTEND;TZID=Australia/Adelaide:20260610T163000
DTSTAMP:20260424T234128
CREATED:20260420T022759Z
LAST-MODIFIED:20260420T040502Z
UID:10003292-1780995600-1781109000@lesnw.edu.au
SUMMARY:Empathy to Impact: Building Real‑World Learning and Meaningful Action
DESCRIPTION:Location: LLL Meeting Room (175 Archer Street\, North Adelaide)\nAudience: Learning Leaders\nCost: $200 per participant \nFlyer coming soon. \n\nEmpathy to Impact is a two‑day professional learning experience supporting educators to design authentic\, real‑world learning that leads to meaningful student action. Day 1 introduces the Empathy to Impact framework\, while Day 2 focuses on collaboratively building a ready‑to‑use unit of learning.  Previous participants may elect to attend Day 2 only. \n\nRegistrations will close on Monday 1 June at 4.00pm. \n\n	Notice: JavaScript is required for this content.
URL:https://lesnw.edu.au/event/2026-empathy-to-impact-phase-2/
LOCATION:LLL Boardroom\, 175 Archer Street\, North Adelaide\, SA\, 5006\, Australia
CATEGORIES:Learning and Teaching Support
ATTACH;FMTTYPE=image/png:https://lesnw.edu.au/wp-content/uploads/2026/04/Inspire-Citizens.png
ORGANIZER;CN="Lutheran Education SA%2C NT & WA":MAILTO:office@lesnw.edu.au
END:VEVENT
BEGIN:VEVENT
DTSTART;VALUE=DATE:20260610
DTEND;VALUE=DATE:20260611
DTSTAMP:20260424T234128
CREATED:20251010T020007Z
LAST-MODIFIED:20251029T072559Z
UID:10002852-1781049600-1781135999@lesnw.edu.au
SUMMARY:Principals and Directors (PaD) Meeting
DESCRIPTION:Location: TBC\nAudience: Principals and Directors
URL:https://lesnw.edu.au/event/2026-pad-meeting-term-2/
LOCATION:Venue TBC\, Venue TBC
CATEGORIES:Principal and Director Support
END:VEVENT
BEGIN:VEVENT
DTSTART;TZID=Australia/Adelaide:20260610T093000
DTEND;TZID=Australia/Adelaide:20260610T153000
DTSTAMP:20260424T234128
CREATED:20250915T222648Z
LAST-MODIFIED:20251012T235654Z
UID:10003203-1781083800-1781105400@lesnw.edu.au
SUMMARY:LESNW Business Manager Meeting (Term 2)
DESCRIPTION:Location: LESNW Regional Office
URL:https://lesnw.edu.au/event/2026-business-manager-meeting-term-2/
LOCATION:LESNW Meeting Room 1\, LESNW Meeting Room 1\, 137 Archer Street\, North Adelaide\, 5006
CATEGORIES:Financial Services Support
ORGANIZER;CN="Lutheran Education SA%2C NT & WA":MAILTO:office@lesnw.edu.au
END:VEVENT
BEGIN:VEVENT
DTSTART;TZID=Australia/Adelaide:20260610T190000
DTEND;TZID=Australia/Adelaide:20260610T200000
DTSTAMP:20260424T234128
CREATED:20250915T221240Z
LAST-MODIFIED:20251201T233044Z
UID:10002826-1781118000-1781121600@lesnw.edu.au
SUMMARY:Chairs of Boards/Councils Gathering
DESCRIPTION:Location: Online (MS Teams)\nAudience: Chairs of Boards/Councils \nChairs of Boards/Councils Gatherings Flyer (PDF) \nLinks will be provided to chairs via calendar invitations.
URL:https://lesnw.edu.au/event/2026-chairs-of-boards-councils-gathering-5/
LOCATION:Microsoft Teams Meeting\, Microsoft Teams Meeting
CATEGORIES:Governing Body Support
ORGANIZER;CN="Lutheran Education SA%2C NT & WA":MAILTO:office@lesnw.edu.au
END:VEVENT
BEGIN:VEVENT
DTSTART;VALUE=DATE:20260611
DTEND;VALUE=DATE:20260612
DTSTAMP:20260424T234128
CREATED:20251013T044409Z
LAST-MODIFIED:20251015T042004Z
UID:10002856-1781136000-1781222399@lesnw.edu.au
SUMMARY:Principals and Directors (PaD) Collegial Networks
DESCRIPTION:Location: TBC \n 
URL:https://lesnw.edu.au/event/2026-pad-collegial-networks-term-2/
LOCATION:Venue TBC\, Venue TBC
CATEGORIES:Principal and Director Support
ORGANIZER;CN="Lutheran Education SA%2C NT & WA":MAILTO:office@lesnw.edu.au
END:VEVENT
BEGIN:VEVENT
DTSTART;VALUE=DATE:20260611
DTEND;VALUE=DATE:20260612
DTSTAMP:20260424T234128
CREATED:20251013T044717Z
LAST-MODIFIED:20251013T044717Z
UID:10003239-1781136000-1781222399@lesnw.edu.au
SUMMARY:Year 1 Leaders Network
DESCRIPTION:Location: TBC
URL:https://lesnw.edu.au/event/2026-year-1-leaders-network-4/
LOCATION:Venue TBC\, Venue TBC
CATEGORIES:Principal and Director Support
ORGANIZER;CN="Lutheran Education SA%2C NT & WA":MAILTO:office@lesnw.edu.au
END:VEVENT
BEGIN:VEVENT
DTSTART;TZID=Australia/Adelaide:20260611T083000
DTEND;TZID=Australia/Adelaide:20260611T153000
DTSTAMP:20260424T234128
CREATED:20250921T072648Z
LAST-MODIFIED:20260325T222027Z
UID:10003209-1781166600-1781191800@lesnw.edu.au
SUMMARY:Leading 'Effective Organisation and Management'
DESCRIPTION:Leading Vocational Practices: Workshop 3\nLocation: LESNW Regional Office \nWorkshop Flyer coming soon.\nSeries Flyer (PDF)\n \nGrounded in the Growing Deep Framework this workshop will explore Effective Organisation and Management\, and related capabilities essential to leadership in your context. This session will be practical\, contextually relevant and tailored to support stakeholder engagement across diverse roles and settings. \nRegistrations close on Thursday 4 June at 4:00pm.
URL:https://lesnw.edu.au/event/2026-leading-organisation-and-management/
LOCATION:LESNW Meeting Room 1\, LESNW Meeting Room 1\, 137 Archer Street\, North Adelaide\, 5006
CATEGORIES:Educational Leadership Support,Leadership Teams
ATTACH;FMTTYPE=image/png:https://lesnw.edu.au/wp-content/uploads/2025/09/NEW-WORKSHOP.png
ORGANIZER;CN="Lutheran Education SA%2C NT & WA":MAILTO:office@lesnw.edu.au
END:VEVENT
END:VCALENDAR